BEGIN:VCALENDAR
VERSION:2.0
PRODID:-//Gruppo Polaris - ECPv5.16.4//NONSGML v1.0//EN
CALSCALE:GREGORIAN
METHOD:PUBLISH
X-ORIGINAL-URL:https://gruppopolaris.org
X-WR-CALDESC:Eventi per Gruppo Polaris
REFRESH-INTERVAL;VALUE=DURATION:PT1H
X-Robots-Tag:noindex
X-PUBLISHED-TTL:PT1H
BEGIN:VTIMEZONE
TZID:Europe/Rome
BEGIN:DAYLIGHT
TZOFFSETFROM:+0100
TZOFFSETTO:+0200
TZNAME:CEST
DTSTART:20240331T010000
END:DAYLIGHT
BEGIN:STANDARD
TZOFFSETFROM:+0200
TZOFFSETTO:+0100
TZNAME:CET
DTSTART:20241027T010000
END:STANDARD
END:VTIMEZONE
BEGIN:VEVENT
DTSTART;TZID=Europe/Rome:20240919T083000
DTEND;TZID=Europe/Rome:20240919T173000
DTSTAMP:20260420T232415
CREATED:20240801T193946Z
LAST-MODIFIED:20240801T193946Z
UID:7764-1726734600-1726767000@gruppopolaris.org
SUMMARY:Addetti Antincendio per Attività di livello 2 - Pinerolo
DESCRIPTION:ACQUISTA\n\n\n\n\n\n\n\n\n\nSCARICA QUI LA SCHEDA DI ISCRIZIONE > \nORARIO:\n19 settembre 2024: 8.30 – 13.30 / 14.30 – 17.30 \nIl corso si rivolge agli addetti aziendali alla gestione delle emergenze e alla lotta antincendio. \nPROGRAMMA \nL’INCENDIO E LA PREVENZIONE INCENDI 2 ORE\nPrincipi sulla combustione e l’incendio: \n\nle sostanze estinguenti\ntriangolo della combustione\nle principali cause di un incendio\nrischi alle persone in caso di incendio\ni principali accorgimenti e misure per prevenire gli incendi.\n\nSTRATEGIA ANTINCENDIO (prima parte) 2 ORE\nMisure antincendio (prima parte) \n\nreazioni al fuoco\nresistenza al fuoco\ncompartimentazione\nesodo\ncontrollo dell’incendio\nrivelazione ed allarme\ncontrollo di fumi e calore\noperatività antincendio\nsicurezza degli impianti tecnologici e di servizio.\n\nSTRATEGIA ANTINCENDIO (seconda parte) 1 ORA \n\nGestione della sicurezza antincendio in esercizio ed in emergenza\, con approfondimenti su controlli e manutenzione e sulla\npianificazione di emergenza.\n\nESERCITAZIONI PRATICHE (3 ORE) \n\nPresa visione e chiarimenti sulle attrezzature ed impianti di controllo ed estinzione degli incendi più diffusi\nPresa visione e chiarimenti sui dispositivi di protezione individuale\nEsercitazioni sull’uso degli estintori portatili e modalità di utilizzo di naspi e idranti.\nPresa visione del registro antincendio\, chiarimenti ed esercitazione riguardante l’attività di sorveglianza
URL:https://gruppopolaris.org/corso/addetti-antincendio-per-attivita-di-livello-2-pinerolo-6/
LOCATION:Gruppo POLARIS Pinerolo\, Via F.G. Bona\, 15\, Pinerolo (TO)\, 10064
CATEGORIES:ANTINCENDIO
ATTACH;FMTTYPE=image/jpeg:https://gruppopolaris.org/wp-content/uploads/2022/07/aggiornamento-antincendio-per-aziende-di-tipo-b-rischio-medio-pinerolo.jpg
END:VEVENT
BEGIN:VEVENT
DTSTART;TZID=Europe/Rome:20240919T113000
DTEND;TZID=Europe/Rome:20240919T173000
DTSTAMP:20260420T232415
CREATED:20240801T194747Z
LAST-MODIFIED:20240801T194747Z
UID:7772-1726745400-1726767000@gruppopolaris.org
SUMMARY:Aggiornamento Antincendio per Attività di livello 2 - Pinerolo
DESCRIPTION:ACQUISTA\n\n\n\n\n\n\n\n\n\nSCARICA QUI LA SCHEDA DI ISCRIZIONE > \nORARIO:\n19 settembre 2024: 11.30 – 13.30 / 14.30 – 17.30 \nPROGRAMMA \nPARTE TEORICA (2 ore): \nI contenuti del corso di aggiornamento sono selezionati tra gli argomenti del corso di formazione iniziale e riguardano sia l’incendio e la prevenzione sia la protezione antincendio e le procedure da adottare in caso di incendio. \nESERCITAZIONI PRATICHE (3 ore) \n\nPresa visione del registro antincendio e delle misure di sorveglianza su impianti\, attrezzature e sistemi di sicurezza antincendio\nEsercitazione riguardante l’attività di sorveglianza\nChiarimenti sugli estintori portatili\nEsercitazioni sull’uso degli estintori portatili e modalità di utilizzo di naspi e idranti.
URL:https://gruppopolaris.org/corso/aggiornamento-antincendio-per-attivita-di-livello-2-pinerolo-7/
LOCATION:Gruppo POLARIS Pinerolo\, Via F.G. Bona\, 15\, Pinerolo (TO)\, 10064
CATEGORIES:ANTINCENDIO
ATTACH;FMTTYPE=image/jpeg:https://gruppopolaris.org/wp-content/uploads/2022/07/aggiornamento-antincendio-per-aziende-di-tipo-b-rischio-medio-pinerolo.jpg
END:VEVENT
END:VCALENDAR