BEGIN:VCALENDAR
VERSION:2.0
PRODID:-//Gruppo Polaris - ECPv5.16.4//NONSGML v1.0//EN
CALSCALE:GREGORIAN
METHOD:PUBLISH
X-ORIGINAL-URL:https://gruppopolaris.org
X-WR-CALDESC:Eventi per Gruppo Polaris
REFRESH-INTERVAL;VALUE=DURATION:PT1H
X-Robots-Tag:noindex
X-PUBLISHED-TTL:PT1H
BEGIN:VTIMEZONE
TZID:Europe/Rome
BEGIN:DAYLIGHT
TZOFFSETFROM:+0100
TZOFFSETTO:+0200
TZNAME:CEST
DTSTART:20230326T010000
END:DAYLIGHT
BEGIN:STANDARD
TZOFFSETFROM:+0200
TZOFFSETTO:+0100
TZNAME:CET
DTSTART:20231029T010000
END:STANDARD
END:VTIMEZONE
BEGIN:VEVENT
DTSTART;TZID=Europe/Rome:20231212T110000
DTEND;TZID=Europe/Rome:20231212T170000
DTSTAMP:20260421T140436
CREATED:20230930T185607Z
LAST-MODIFIED:20231009T194807Z
UID:7223-1702378800-1702400400@gruppopolaris.org
SUMMARY:Aggiornamento Antincendio per Attività di livello 2 - Pinerolo
DESCRIPTION:ACQUISTA\n\n\n\n\n\n\n\n\n\nSCARICA QUI LA SCHEDA DI ISCRIZIONE > \nORARIO:\n12 Dicembre 2023: 11.00 – 13.00 / 14.00 – 17.00 \nPROGRAMMA \nPARTE TEORICA (2 ore): \nI contenuti del corso di aggiornamento sono selezionati tra gli argomenti del corso di formazione iniziale e riguardano sia l’incendio e la prevenzione sia la protezione antincendio e le procedure da adottare in caso di incendio. \nESERCITAZIONI PRATICHE (3 ore) \n\nPresa visione del registro antincendio e delle misure di sorveglianza su impianti\, attrezzature e sistemi di sicurezza antincendio\nEsercitazione riguardante l’attività di sorveglianza\nChiarimenti sugli estintori portatili\nEsercitazioni sull’uso degli estintori portatili e modalità di utilizzo di naspi e idranti.
URL:https://gruppopolaris.org/corso/aggiornamento-antincendio-per-attivita-di-livello-2-pinerolo-3/
LOCATION:Gruppo POLARIS Pinerolo\, Via F.G. Bona\, 15\, Pinerolo (TO)\, 10064
CATEGORIES:ANTINCENDIO
ATTACH;FMTTYPE=image/jpeg:https://gruppopolaris.org/wp-content/uploads/2022/07/aggiornamento-antincendio-per-aziende-di-tipo-b-rischio-medio-pinerolo.jpg
END:VEVENT
END:VCALENDAR