BEGIN:VCALENDAR
VERSION:2.0
PRODID:-//Gruppo Polaris - ECPv5.16.4//NONSGML v1.0//EN
CALSCALE:GREGORIAN
METHOD:PUBLISH
X-WR-CALNAME:Gruppo Polaris
X-ORIGINAL-URL:https://gruppopolaris.org
X-WR-CALDESC:Eventi per Gruppo Polaris
REFRESH-INTERVAL;VALUE=DURATION:PT1H
X-Robots-Tag:noindex
X-PUBLISHED-TTL:PT1H
BEGIN:VTIMEZONE
TZID:Europe/Rome
BEGIN:DAYLIGHT
TZOFFSETFROM:+0100
TZOFFSETTO:+0200
TZNAME:CEST
DTSTART:20220327T010000
END:DAYLIGHT
BEGIN:STANDARD
TZOFFSETFROM:+0200
TZOFFSETTO:+0100
TZNAME:CET
DTSTART:20221030T010000
END:STANDARD
END:VTIMEZONE
BEGIN:VEVENT
DTSTART;TZID=Europe/Rome:20221116T110000
DTEND;TZID=Europe/Rome:20221116T130000
DTSTAMP:20260422T110342
CREATED:20220729T082436Z
LAST-MODIFIED:20220926T103556Z
UID:6003-1668596400-1668603600@gruppopolaris.org
SUMMARY:Aggiornamento Antincendio per aziende di tipo “A” - RISCHIO BASSO - Torino
DESCRIPTION:ACQUISTA\n\n\n\n\n\n\n\n\n\nSCARICA QUI LA SCHEDA DI ISCRIZIONE > \nORARIO:\n16 NOVEMBRE: 11.00 – 13.00 \nIl corso di aggiornamento ha come obiettivo quello di aggiornare le conoscenze tecniche\, organizzative e pratiche degli addetti Antincendio e Gestione delle emergenze che hanno già seguito un corso completo\, ricordando e trasferendo ai partecipanti le opportune conoscenze di natura tecnica nonché le necessarie abilità di natura pratica. \nPROGRAMMA \n\nPresa visione del registro della sicurezza antincendi e chiarimenti sugli estintori portatili;\nIstruzioni sull’uso degli estintori portatili effettuata o avvalendosi di sussidi audiovisivi o tramite dimostrazione pratica.
URL:https://gruppopolaris.org/corso/aggiornamento-antincendio-per-aziende-di-tipo-a-rischio-basso-torino/
LOCATION:Gruppo POLARIS Torino\, Corso Unione Sovietica 612/15\, Torino\, 10135
CATEGORIES:ANTINCENDIO
ATTACH;FMTTYPE=image/jpeg:https://gruppopolaris.org/wp-content/uploads/2022/07/antincendio-per-aziende-di-tipo-a-rischio-basso-pinerolo.jpg
END:VEVENT
BEGIN:VEVENT
DTSTART;TZID=Europe/Rome:20221116T110000
DTEND;TZID=Europe/Rome:20221116T170000
DTSTAMP:20260422T110342
CREATED:20220729T082722Z
LAST-MODIFIED:20220926T103639Z
UID:6006-1668596400-1668618000@gruppopolaris.org
SUMMARY:Aggiornamento Antincendio per aziende di tipo “B” - RISCHIO MEDIO - Torino
DESCRIPTION:ACQUISTA\n\n\n\n\n\n\n\n\n\nSCARICA QUI LA SCHEDA DI ISCRIZIONE > \nORARIO:\n16 NOVEMBRE: 11.00 – 13.00 / 14.00 – 17.00 \nL’INCENDIO\, LA PREVENZIONE INCENDI E LE PROCEDURE DA ADOTTARE (1 ora): \n\nPrincipi sulla combustione\nProdotti della combustione\nSostanze estinguenti in relazione al tipo di incendio\nEffetti dell’incendio sull’uomo\nDivieti e limitazioni di esercizio\nMisure comportamentali\n\n2) PROTEZIONE ANTINCENDIO E PROCEDURE DA ADOTTARE IN CASO D’INCENDIO (1 ora): \n\nPrincipali misure di protezione antincendio\nEvacuazione in caso d’incendio\nChiamata dei soccorsi\n\n3) ESERCITAZIONI PRATICHE (3ore) \n\nPresa visione del registro della sicurezza antincendio e chiarimenti sugli estintori portatili;\nEsercitazioni sull’uso degli estintori portatili e modalità di utilizzo di naspi e idranti.
URL:https://gruppopolaris.org/corso/aggiornamento-antincendio-per-aziende-di-tipo-b-rischio-medio-torino/
LOCATION:Gruppo POLARIS Torino\, Corso Unione Sovietica 612/15\, Torino\, 10135
CATEGORIES:ANTINCENDIO
ATTACH;FMTTYPE=image/jpeg:https://gruppopolaris.org/wp-content/uploads/2022/07/antincendio-per-aziende-di-tipo-a-rischio-basso-pinerolo.jpg
END:VEVENT
END:VCALENDAR