BEGIN:VCALENDAR
VERSION:2.0
PRODID:-//Gruppo Polaris - ECPv5.16.4//NONSGML v1.0//EN
CALSCALE:GREGORIAN
METHOD:PUBLISH
X-ORIGINAL-URL:https://gruppopolaris.org
X-WR-CALDESC:Eventi per Gruppo Polaris
REFRESH-INTERVAL;VALUE=DURATION:PT1H
X-Robots-Tag:noindex
X-PUBLISHED-TTL:PT1H
BEGIN:VTIMEZONE
TZID:Europe/Rome
BEGIN:DAYLIGHT
TZOFFSETFROM:+0100
TZOFFSETTO:+0200
TZNAME:CEST
DTSTART:20220327T010000
END:DAYLIGHT
BEGIN:STANDARD
TZOFFSETFROM:+0200
TZOFFSETTO:+0100
TZNAME:CET
DTSTART:20221030T010000
END:STANDARD
END:VTIMEZONE
BEGIN:VEVENT
DTSTART;TZID=Europe/Rome:20221114T090000
DTEND;TZID=Europe/Rome:20221114T130000
DTSTAMP:20260422T110153
CREATED:20220729T082058Z
LAST-MODIFIED:20220926T103158Z
UID:6000-1668416400-1668430800@gruppopolaris.org
SUMMARY:Antincendio per aziende di tipo “A” - RISCHIO BASSO - Torino
DESCRIPTION:ACQUISTA\n\n\n\n\n\n\n\n\n\nSCARICA QUI LA SCHEDA DI ISCRIZIONE > \nORARIO:\n14 NOVEMBRE: 9.00 – 13.00 \nIl datore di lavoro può svolgere direttamente i compiti propri di addetto alla prevenzione incendi ed evacuazione nelle imprese fino a cinque lavoratori\, tranne i casi di cui al comma 6\, art. 31\, D.Lgs81/08. \nPROGRAMMA \nL’INCENDIO E LA PREVENZIONE INCENDI (1 ora): \n\nPrincipi sulla combustione\nProdotti della combustione\nSostanze estinguenti in relazione al tipo di incendio\nEffetti dell’incendio sull’uomo\nDivieti e limitazioni di esercizio\nMisure comportamentali\n\nPROTEZIONE ANTINCENDIO E LE PROCEDURE DA ADOTTARE IN CASO DI INCENDIO(1 ora): \n\nPrincipali misure di protezione antincendio\nEvacuazione in caso d’incendio\nChiamata dei soccorsi\n\nESERCITAZIONI PRATICHE (2 ore) \n\nPresa visione e chiarimenti sugli estintori portatili\nIstruzioni sull’uso degli estintori portatili effettuata mediante sussidi audiovisivi\, o mediante dimostrazione pratica.
URL:https://gruppopolaris.org/corso/antincendio-per-aziende-di-tipo-a-rischio-basso-torino/
LOCATION:Gruppo POLARIS Torino\, Corso Unione Sovietica 612/15\, Torino\, 10135
CATEGORIES:ANTINCENDIO
ATTACH;FMTTYPE=image/jpeg:https://gruppopolaris.org/wp-content/uploads/2022/07/antincendio-per-aziende-di-tipo-a-rischio-basso-pinerolo.jpg
END:VEVENT
BEGIN:VEVENT
DTSTART;TZID=Europe/Rome:20221114T090000
DTEND;TZID=Europe/Rome:20221114T180000
DTSTAMP:20260422T110153
CREATED:20220729T081806Z
LAST-MODIFIED:20220926T103312Z
UID:5997-1668416400-1668448800@gruppopolaris.org
SUMMARY:Antincendio per aziende di tipo “B” - RISCHIO MEDIO - Torino
DESCRIPTION:ACQUISTA\n\n\n\n\n\n\n\n\n\nSCARICA QUI LA SCHEDA DI ISCRIZIONE > \nORARIO:\n14 NOVEMBRE: 9.00 – 13.00 / 14.00 – 18.00 \nIl datore di lavoro può svolgere direttamente i compiti propri di addetto alla prevenzione incendi ed evacuazione nelle imprese fino a cinque lavoratori\, tranne i casi di cui al comma 6\, art. 31\, D.Lgs81/08. \nPROGRAMMA \nL’INCENDIO E LA PREVENZIONE INCENDI (2 ORE) \n\nprincipi sulla combustione e l’incendio\nle sostanze estinguenti\ntriangolo della combustione\nle principali cause di un incendio\nRischi alle persone in caso di incendio\nprincipali accorgimenti e misure per prevenire gli incendi.\n\nPROTEZIONE ANTINCENDIO E PROCEDURE DA ADOTTARE IN CASO DI INCENDIO (3 ORE) \n\nLe principali misure di protezione contro gli incendi\nvie di esodo\nprocedure da adottare quando si scopre un incendio o in caso di allarme\nprocedure per l’evacuazione\nrapporti con i vigili del fuoco\nattrezzature ed impianti di estinzione\nsistemi di allarme\nsegnaletica di sicurezza\nilluminazione di emergenza.\n\nESERCITAZIONI PRATICHE (3 ORE) \n\nPresa visione e chiarimenti sui mezzi di estinzione più diffusi\npresa visione e chiarimenti sulle attrezzature di protezione individuale\nesercitazioni sull’uso degli estintori portatili e modalità di utilizzo di naspi e idranti.
URL:https://gruppopolaris.org/corso/antincendio-per-aziende-di-tipo-b-rischio-medio-torino/
LOCATION:Gruppo POLARIS Torino\, Corso Unione Sovietica 612/15\, Torino\, 10135
CATEGORIES:ANTINCENDIO
ATTACH;FMTTYPE=image/jpeg:https://gruppopolaris.org/wp-content/uploads/2022/07/antincendio-per-aziende-di-tipo-b-rischio-medio-pinerolo.jpg
END:VEVENT
END:VCALENDAR