BEGIN:VCALENDAR
VERSION:2.0
PRODID:-//Gruppo Polaris - ECPv5.16.4//NONSGML v1.0//EN
CALSCALE:GREGORIAN
METHOD:PUBLISH
X-WR-CALNAME:Gruppo Polaris
X-ORIGINAL-URL:https://gruppopolaris.org
X-WR-CALDESC:Eventi per Gruppo Polaris
REFRESH-INTERVAL;VALUE=DURATION:PT1H
X-Robots-Tag:noindex
X-PUBLISHED-TTL:PT1H
BEGIN:VTIMEZONE
TZID:Europe/Rome
BEGIN:DAYLIGHT
TZOFFSETFROM:+0100
TZOFFSETTO:+0200
TZNAME:CEST
DTSTART:20230326T010000
END:DAYLIGHT
BEGIN:STANDARD
TZOFFSETFROM:+0200
TZOFFSETTO:+0100
TZNAME:CET
DTSTART:20231029T010000
END:STANDARD
END:VTIMEZONE
BEGIN:VEVENT
DTSTART;TZID=Europe/Rome:20230605T083000
DTEND;TZID=Europe/Rome:20230605T173000
DTSTAMP:20260421T220025
CREATED:20230314T221206Z
LAST-MODIFIED:20230314T221419Z
UID:6702-1685953800-1685986200@gruppopolaris.org
SUMMARY:Addetti Antincendio per Attività di livello 2 - Pinerolo
DESCRIPTION:ACQUISTA\n\n\n\n\n\n\n\n\n\nSCARICA QUI LA SCHEDA DI ISCRIZIONE > \nORARIO:\n5 Giugno 2023: 8.30 – 13.30 / 14.30 – 17.30 \nIl corso si rivolge agli addetti aziendali alla gestione delle emergenze e alla lotta antincendio. \nPROGRAMMA \nL’INCENDIO E LA PREVENZIONE INCENDI 2 ORE\nPrincipi sulla combustione e l’incendio: \n\nle sostanze estinguenti\ntriangolo della combustione\nle principali cause di un incendio\nrischi alle persone in caso di incendio\ni principali accorgimenti e misure per prevenire gli incendi.\n\nSTRATEGIA ANTINCENDIO (prima parte) 2 ORE\nMisure antincendio (prima parte) \n\nreazioni al fuoco\nresistenza al fuoco\ncompartimentazione\nesodo\ncontrollo dell’incendio\nrivelazione ed allarme\ncontrollo di fumi e calore\noperatività antincendio\nsicurezza degli impianti tecnologici e di servizio.\n\nSTRATEGIA ANTINCENDIO (seconda parte) 1 ORA \n\nGestione della sicurezza antincendio in esercizio ed in emergenza\, con approfondimenti su controlli e manutenzione e sulla\npianificazione di emergenza.\n\nESERCITAZIONI PRATICHE (3 ORE) \n\nPresa visione e chiarimenti sulle attrezzature ed impianti di controllo ed estinzione degli incendi più diffusi\nPresa visione e chiarimenti sui dispositivi di protezione individuale\nEsercitazioni sull’uso degli estintori portatili e modalità di utilizzo di naspi e idranti.\nPresa visione del registro antincendio\, chiarimenti ed esercitazione riguardante l’attività di sorveglianza
URL:https://gruppopolaris.org/corso/addetti-antincendio-per-attivita-di-livello-2-pinerolo/
LOCATION:Gruppo POLARIS Pinerolo\, Via F.G. Bona\, 15\, Pinerolo (TO)\, 10064
CATEGORIES:ANTINCENDIO
ATTACH;FMTTYPE=image/jpeg:https://gruppopolaris.org/wp-content/uploads/2022/07/aggiornamento-antincendio-per-aziende-di-tipo-b-rischio-medio-pinerolo.jpg
END:VEVENT
BEGIN:VEVENT
DTSTART;TZID=Europe/Rome:20230607T110000
DTEND;TZID=Europe/Rome:20230607T170000
DTSTAMP:20260421T220025
CREATED:20230314T222323Z
LAST-MODIFIED:20230314T222417Z
UID:6712-1686135600-1686157200@gruppopolaris.org
SUMMARY:Aggiornamento Antincendio per Attività di livello 2 - Pinerolo
DESCRIPTION:ACQUISTA\n\n\n\n\n\n\n\n\n\nSCARICA QUI LA SCHEDA DI ISCRIZIONE > \nORARIO:\n7 Giugno 2023: 11.00 – 13.00 / 14.00 – 17.00 \nPROGRAMMA \nPARTE TEORICA (2 ore): \nI contenuti del corso di aggiornamento sono selezionati tra gli argomenti del corso di formazione iniziale e riguardano sia l’incendio e la prevenzione sia la protezione antincendio e le procedure da adottare in caso di incendio. \nESERCITAZIONI PRATICHE (3 ore) \n\nPresa visione del registro antincendio e delle misure di sorveglianza su impianti\, attrezzature e sistemi di sicurezza antincendio\nEsercitazione riguardante l’attività di sorveglianza\nChiarimenti sugli estintori portatili\nEsercitazioni sull’uso degli estintori portatili e modalità di utilizzo di naspi e idranti.
URL:https://gruppopolaris.org/corso/aggiornamento-antincendio-per-attivita-di-livello-2-pinerolo/
LOCATION:Gruppo POLARIS Pinerolo\, Via F.G. Bona\, 15\, Pinerolo (TO)\, 10064
CATEGORIES:ANTINCENDIO
ATTACH;FMTTYPE=image/jpeg:https://gruppopolaris.org/wp-content/uploads/2022/07/aggiornamento-antincendio-per-aziende-di-tipo-b-rischio-medio-pinerolo.jpg
END:VEVENT
BEGIN:VEVENT
DTSTART;TZID=Europe/Rome:20230614T090000
DTEND;TZID=Europe/Rome:20230614T130000
DTSTAMP:20260421T220025
CREATED:20230314T215932Z
LAST-MODIFIED:20230326T124823Z
UID:6697-1686733200-1686747600@gruppopolaris.org
SUMMARY:Addetti Antincendio per Attività di livello 1 - Pinerolo
DESCRIPTION:ACQUISTA\n\n\n\n\n\n\n\n\n\nSCARICA QUI LA SCHEDA DI ISCRIZIONE > \nORARIO:\n14 Giugno 2023: 09.00 – 13.00 \nIl corso si rivolge agli addetti aziendali alla gestione delle emergenze e alla lotta antincendio per le Attività di livello 1. \nPROGRAMMA \n\nL’INCENDIO E LA PREVENZIONE INCENDI (1 ora):\n• Principi sulla combustione\n• Prodotti della combustione\n• Sostanze estinguenti in relazione al tipo di incendio\n• Effetti dell’incendio sull’uomo\n• Divieti e limitazioni di esercizio\n• Misure comportamentali\nPROTEZIONE ANTINCENDIO E LE PROCEDURE DA ADOTTARE IN CASO DI INCENDIO (1 ora):\n• Principali misure di protezione antincendio\n• Evacuazione in caso d’incendio\n• Chiamata dei soccorsi\nESERCITAZIONI PRATICHE (2 ore)\n• Presa visione e chiarimenti sugli estintori portatili\n• Esercitazioni sull’uso degli estintori portatili\n• Presa visione del registro antincendio\, chiarimenti ed esercitazione riguardante l’attività di sorveglianza.
URL:https://gruppopolaris.org/corso/aggiornamento-antincendio-per-attivita-di-livello-1-pinerolo-2/
LOCATION:Gruppo POLARIS Pinerolo\, Via F.G. Bona\, 15\, Pinerolo (TO)\, 10064
CATEGORIES:ANTINCENDIO
ATTACH;FMTTYPE=image/jpeg:https://gruppopolaris.org/wp-content/uploads/2022/07/antincendio-per-aziende-di-tipo-a-rischio-basso-pinerolo.jpg
END:VEVENT
BEGIN:VEVENT
DTSTART;TZID=Europe/Rome:20230614T110000
DTEND;TZID=Europe/Rome:20230614T130000
DTSTAMP:20260421T220025
CREATED:20230314T221850Z
LAST-MODIFIED:20230519T210850Z
UID:6707-1686740400-1686747600@gruppopolaris.org
SUMMARY:Aggiornamento Addetti Antincendio per Attività di livello 1 - Pinerolo
DESCRIPTION:ACQUISTA\n\n\n\n\n\n\n\n\n\nSCARICA QUI LA SCHEDA DI ISCRIZIONE > \nORARIO:\n14 Giugno 2023: 11.00 – 13.00 \nIl corso si rivolge a tutti gli addetti alle misure di prevenzione e protezione antincendio che sono già in possesso di attestato di\npartecipazione al corso completo di 4 ore. \nPROGRAMMA \n\nESERCITAZIONI PRATICHE (2 ore)\n• Presa visione delle misure di sorveglianza su impianti\, attrezzature e sistemi di sicurezza antincendio\n• Chiarimenti sugli estintori portatili\n• Esercitazioni sull’uso degli estintori portatili\n• Presa visione del registro antincendio e delle misure di sorveglianza su impianti\, attrezzature e sistemi di sicurezza antincendio\n• Esercitazione riguardante l’attività di sorveglianza.
URL:https://gruppopolaris.org/corso/aggiornamento-antincendio-per-attivita-di-livello-1-pinerolo-3/
LOCATION:Gruppo POLARIS Pinerolo\, Via F.G. Bona\, 15\, Pinerolo (TO)\, 10064
CATEGORIES:ANTINCENDIO
ATTACH;FMTTYPE=image/jpeg:https://gruppopolaris.org/wp-content/uploads/2022/07/antincendio-per-aziende-di-tipo-a-rischio-basso-pinerolo.jpg
END:VEVENT
END:VCALENDAR