BEGIN:VCALENDAR
VERSION:2.0
PRODID:-//Gruppo Polaris - ECPv5.16.4//NONSGML v1.0//EN
CALSCALE:GREGORIAN
METHOD:PUBLISH
X-WR-CALNAME:Gruppo Polaris
X-ORIGINAL-URL:https://gruppopolaris.org
X-WR-CALDESC:Eventi per Gruppo Polaris
REFRESH-INTERVAL;VALUE=DURATION:PT1H
X-Robots-Tag:noindex
X-PUBLISHED-TTL:PT1H
BEGIN:VTIMEZONE
TZID:Europe/Rome
BEGIN:DAYLIGHT
TZOFFSETFROM:+0100
TZOFFSETTO:+0200
TZNAME:CEST
DTSTART:20230326T010000
END:DAYLIGHT
BEGIN:STANDARD
TZOFFSETFROM:+0200
TZOFFSETTO:+0100
TZNAME:CET
DTSTART:20231029T010000
END:STANDARD
END:VTIMEZONE
BEGIN:VEVENT
DTSTART;TZID=Europe/Rome:20230207T080000
DTEND;TZID=Europe/Rome:20230207T170000
DTSTAMP:20260422T043731
CREATED:20230104T160053Z
LAST-MODIFIED:20230104T160306Z
UID:6478-1675756800-1675789200@gruppopolaris.org
SUMMARY:Antincendio per aziende per Attività di livello 2- Pinerolo
DESCRIPTION:ACQUISTA\n\n\n\n\nSCARICA QUI LA SCHEDA DI ISCRIZIONE > \nORARIO:\n07 Febbraio 2023: 8.00 – 13.00 / 14.00 – 17.00 \nIl datore di lavoro può svolgere direttamente i compiti propri di addetto alla prevenzione incendi ed evacuazione nelle imprese fino a cinque lavoratori\, tranne i casi di cui al comma 6\, art. 31\, D.Lgs81/08. \nPROGRAMMA \nL’INCENDIO E LA PREVENZIONE INCENDI (2 ORE) \n\nprincipi sulla combustione e l’incendio\nle sostanze estinguenti\ntriangolo della combustione\nle principali cause di un incendio\nrischi alle persone in caso di incendio\nprincipali accorgimenti e misure per prevenire gli incendi.\n\nSTRATEGIA ANTINCENDIO (prima parte) (2 ORE) \nMisure antincendio (prima parte) \n\nreazioni al fuoco\nresistenza al fuoco\ncompartimentazione\nesodo\nControllo dell’incendio\nrivelazione ed allarme\ncontrollo di fumi e calore\noperatività antincendio\nsicurezza degli impianti tecnologici e di servizio\n\nSTRATEGIA ANTINCENDIO (seconda parte) (1 ORA) \n\nGestione della sicurezza antincendio in esercizio ed in emergenza\, con approfondimenti su controlli e manutenzione e sulla pianificazione di emergenza.\n\nESERCITAZIONI PRATICHE (3 ORE) \n\nPresa visione e chiarimenti sulle attrezzature ed impianti di controllo ed estinzione degli incendi più diffusi\nPresa visione e chiarimenti sui dispositivi di protezione individuale\nEsercitazioni sull’uso degli estintori portatili e modalità di utilizzo di naspi e idranti.\nPresa visione del registro antincendio\, chiarimenti ed esercitazione riguardante l’attività di sorveglianza
URL:https://gruppopolaris.org/corso/antincendio-per-aziende-di-tipo-b-rischio-medio-pinerolo-2/
LOCATION:Gruppo POLARIS Pinerolo\, Via F.G. Bona\, 15\, Pinerolo (TO)\, 10064
CATEGORIES:ANTINCENDIO
ATTACH;FMTTYPE=image/jpeg:https://gruppopolaris.org/wp-content/uploads/2022/07/antincendio-per-aziende-di-tipo-b-rischio-medio-pinerolo.jpg
END:VEVENT
BEGIN:VEVENT
DTSTART;TZID=Europe/Rome:20230210T110000
DTEND;TZID=Europe/Rome:20230210T170000
DTSTAMP:20260422T043731
CREATED:20230104T170417Z
LAST-MODIFIED:20230104T170710Z
UID:6487-1676026800-1676048400@gruppopolaris.org
SUMMARY:Aggiornamento Antincendio per Attività di livello 2 - Pinerolo
DESCRIPTION:ACQUISTA\n\n\n\n\n\n\n\n\n\nSCARICA QUI LA SCHEDA DI ISCRIZIONE > \nORARIO:\n10 Febbraio 2023: 11.00 – 13.00 / 14.00 – 17.00 \nPROGRAMMA \nPARTE TEORICA (2 ore): \nI contenuti del corso di aggiornamento sono selezionati tra gli argomenti del corso di formazione iniziale e riguardano sia l’incendio e la prevenzione sia la protezione antincendio e le procedure da adottare in caso di incendio. \nESERCITAZIONI PRATICHE (3 ore) \n\nPresa visione del registro antincendio e delle misure di sorveglianza su impianti\, attrezzature e sistemi di sicurezza antincendio\nEsercitazione riguardante l’attività di sorveglianza\nChiarimenti sugli estintori portatili\nEsercitazioni sull’uso degli estintori portatili e modalità di utilizzo di naspi e idranti.
URL:https://gruppopolaris.org/corso/aggiornamento-antincendio-per-aziende-di-tipo-b-rischio-medio-pinerolo-2/
LOCATION:Gruppo POLARIS Pinerolo\, Via F.G. Bona\, 15\, Pinerolo (TO)\, 10064
CATEGORIES:ANTINCENDIO
ATTACH;FMTTYPE=image/jpeg:https://gruppopolaris.org/wp-content/uploads/2022/07/aggiornamento-antincendio-per-aziende-di-tipo-b-rischio-medio-pinerolo.jpg
END:VEVENT
BEGIN:VEVENT
DTSTART;TZID=Europe/Rome:20230214T090000
DTEND;TZID=Europe/Rome:20230214T130000
DTSTAMP:20260422T043731
CREATED:20230102T191207Z
LAST-MODIFIED:20230102T191457Z
UID:6473-1676365200-1676379600@gruppopolaris.org
SUMMARY:Antincendio per Attività di livello 1 - Pinerolo
DESCRIPTION:ACQUISTASCARICA QUI LA SCHEDA DI ISCRIZIONE > \nORARIO:\n14 Febbraio 2023: 9.00 – 13.00 \nIl datore di lavoro può svolgere direttamente i compiti propri di addetto alla prevenzione incendi ed evacuazione nelle imprese fino a cinque lavoratori\, tranne i casi di cui al comma 6\, art. 31\, D.Lgs81/08. \nPROGRAMMA \nL’INCENDIO E LA PREVENZIONE INCENDI (1 ora): \n\nPrincipi sulla combustione\nProdotti della combustione\nSostanze estinguenti in relazione al tipo di incendio\nEffetti dell’incendio sull’uomo\nDivieti e limitazioni di esercizio\nMisure comportamentali\n\nPROTEZIONE ANTINCENDIO E LE PROCEDURE DA ADOTTARE IN CASO DI INCENDIO (1 ora): \n\nPrincipali misure di protezione antincendio\nEvacuazione in caso d’incendio\nChiamata dei soccorsi\n\nESERCITAZIONI PRATICHE (2 ore) \n\nPresa visione e chiarimenti sugli estintori portatili\nEsercitazioni sull’uso degli estintori portatili\nPrese visione del registro antincendio\, chiarimenti ed esercitazione riguardante l’attività di sorveglianza.
URL:https://gruppopolaris.org/corso/antincendio-per-aziende-di-tipo-a-rischio-basso-pinerolo-2/
LOCATION:Gruppo POLARIS Pinerolo\, Via F.G. Bona\, 15\, Pinerolo (TO)\, 10064
CATEGORIES:ANTINCENDIO
ATTACH;FMTTYPE=image/jpeg:https://gruppopolaris.org/wp-content/uploads/2022/07/antincendio-per-aziende-di-tipo-a-rischio-basso-pinerolo.jpg
END:VEVENT
BEGIN:VEVENT
DTSTART;TZID=Europe/Rome:20230214T110000
DTEND;TZID=Europe/Rome:20230214T130000
DTSTAMP:20260422T043731
CREATED:20230104T162219Z
LAST-MODIFIED:20230104T162332Z
UID:6483-1676372400-1676379600@gruppopolaris.org
SUMMARY:Aggiornamento Antincendio per Attività di livello 1 - Pinerolo
DESCRIPTION:ACQUISTA\n\n\n\n\n\n\n\n\n\nSCARICA QUI LA SCHEDA DI ISCRIZIONE > \nORARIO:\n14 Febbraio 2023: 11.00 – 13.00 \nIl corso di aggiornamento ha come obiettivo quello di aggiornare le conoscenze tecniche\, organizzative e pratiche degli addetti Antincendio e Gestione delle emergenze che hanno già seguito un corso completo\, ricordando e trasferendo ai partecipanti le opportune conoscenze di natura tecnica nonché le necessarie abilità di natura pratica. \nPROGRAMMA \n\nESERCITAZIONI PRATICHE (2 ore)\n\nPresa visione delle misure di sorveglianza su impianti\, attrezzature e sistemi di sicurezza antincendio\nChiarimenti sugli estintori portatili\nEsercitazioni sull’uso degli estintori portatili\nPresa visione del registro antincendio e delle misure di sorveglianza su impianti\, attrezzature e sistemi di sicurezza antincendio\nEsercitazione riguardante l’attività di sorveglianza.
URL:https://gruppopolaris.org/corso/aggiornamento-antincendio-per-attivita-di-livello-1-pinerolo/
LOCATION:Gruppo POLARIS Pinerolo\, Via F.G. Bona\, 15\, Pinerolo (TO)\, 10064
CATEGORIES:ANTINCENDIO
ATTACH;FMTTYPE=image/jpeg:https://gruppopolaris.org/wp-content/uploads/2022/07/antincendio-per-aziende-di-tipo-a-rischio-basso-pinerolo.jpg
END:VEVENT
END:VCALENDAR